
BEGIN:VCALENDAR
VERSION:2.0
PRODID:-//Satış Küpü - ECPv5.9.2//NONSGML v1.0//EN
CALSCALE:GREGORIAN
METHOD:PUBLISH
X-WR-CALNAME:Satış Küpü
X-ORIGINAL-URL:https://www.kursattuncel.com
X-WR-CALDESC:Events for Satış Küpü
BEGIN:VTIMEZONE
TZID:Europe/Helsinki
BEGIN:DAYLIGHT
TZOFFSETFROM:+0200
TZOFFSETTO:+0300
TZNAME:EEST
DTSTART:20250330T010000
END:DAYLIGHT
BEGIN:STANDARD
TZOFFSETFROM:+0300
TZOFFSETTO:+0200
TZNAME:EET
DTSTART:20251026T010000
END:STANDARD
END:VTIMEZONE
BEGIN:VEVENT
DTSTART;TZID=Europe/Helsinki:20250226T080000
DTEND;TZID=Europe/Helsinki:20250227T170000
DTSTAMP:20260423T155501
CREATED:20250121T111512Z
LAST-MODIFIED:20250121T111512Z
UID:16088-1740556800-1740675600@www.kursattuncel.com
SUMMARY:DONDO MARMARA GIDA SATIŞ OKULU
DESCRIPTION:
URL:https://www.kursattuncel.com/etkinlikler/dondo-marmara-gida-satis-okulu-3/
END:VEVENT
END:VCALENDAR