
BEGIN:VCALENDAR
VERSION:2.0
PRODID:-//Satış Küpü - ECPv5.9.2//NONSGML v1.0//EN
CALSCALE:GREGORIAN
METHOD:PUBLISH
X-WR-CALNAME:Satış Küpü
X-ORIGINAL-URL:https://www.kursattuncel.com
X-WR-CALDESC:Events for Satış Küpü
BEGIN:VTIMEZONE
TZID:Europe/Helsinki
BEGIN:DAYLIGHT
TZOFFSETFROM:+0200
TZOFFSETTO:+0300
TZNAME:EEST
DTSTART:20250330T010000
END:DAYLIGHT
BEGIN:STANDARD
TZOFFSETFROM:+0300
TZOFFSETTO:+0200
TZNAME:EET
DTSTART:20251026T010000
END:STANDARD
END:VTIMEZONE
BEGIN:VEVENT
DTSTART;TZID=Europe/Helsinki:20251119T080000
DTEND;TZID=Europe/Helsinki:20251119T170000
DTSTAMP:20260423T121434
CREATED:20251007T103928Z
LAST-MODIFIED:20251007T103928Z
UID:16333-1763539200-1763571600@www.kursattuncel.com
SUMMARY:ENDEKSA MASTERS EĞİTİMİ\, ADANA
DESCRIPTION:
URL:https://www.kursattuncel.com/etkinlikler/endeksa-masters-egitimi-adana/
END:VEVENT
END:VCALENDAR