
BEGIN:VCALENDAR
VERSION:2.0
PRODID:-//Satış Küpü - ECPv5.9.2//NONSGML v1.0//EN
CALSCALE:GREGORIAN
METHOD:PUBLISH
X-WR-CALNAME:Satış Küpü
X-ORIGINAL-URL:https://www.kursattuncel.com
X-WR-CALDESC:Events for Satış Küpü
BEGIN:VTIMEZONE
TZID:Europe/Helsinki
BEGIN:DAYLIGHT
TZOFFSETFROM:+0200
TZOFFSETTO:+0300
TZNAME:EEST
DTSTART:20250330T010000
END:DAYLIGHT
BEGIN:STANDARD
TZOFFSETFROM:+0300
TZOFFSETTO:+0200
TZNAME:EET
DTSTART:20251026T010000
END:STANDARD
END:VTIMEZONE
BEGIN:VEVENT
DTSTART;TZID=Europe/Helsinki:20250507T120000
DTEND;TZID=Europe/Helsinki:20250507T170000
DTSTAMP:20260423T121412
CREATED:20250310T065443Z
LAST-MODIFIED:20250310T065443Z
UID:16186-1746619200-1746637200@www.kursattuncel.com
SUMMARY:MUĞLA TİCARET ODASI EĞİTİMİ\, ENDEKSA
DESCRIPTION:
URL:https://www.kursattuncel.com/etkinlikler/mugla-ticaret-odasi-egitimi-endeksa/
END:VEVENT
END:VCALENDAR