
BEGIN:VCALENDAR
VERSION:2.0
PRODID:-//Satış Küpü - ECPv5.9.2//NONSGML v1.0//EN
CALSCALE:GREGORIAN
METHOD:PUBLISH
X-WR-CALNAME:Satış Küpü
X-ORIGINAL-URL:https://www.kursattuncel.com
X-WR-CALDESC:Events for Satış Küpü
BEGIN:VTIMEZONE
TZID:Europe/Moscow
BEGIN:STANDARD
TZOFFSETFROM:+0300
TZOFFSETTO:+0300
TZNAME:MSK
DTSTART:20220101T000000
END:STANDARD
END:VTIMEZONE
BEGIN:VEVENT
DTSTART;TZID=Europe/Moscow:20221115T133000
DTEND;TZID=Europe/Moscow:20221115T170000
DTSTAMP:20260422T153709
CREATED:20221102T074239Z
LAST-MODIFIED:20221102T074239Z
UID:15297-1668519000-1668531600@www.kursattuncel.com
SUMMARY:OSS / EKMOB - ÇALKANTILI DÖNEMLERDE SÜRDÜRÜLEBİLİR SATIŞ YETKİNLİKLERİ
DESCRIPTION:JUST WORK ÜMRANİYE 13.30 – 17.00
URL:https://www.kursattuncel.com/etkinlikler/oss-ekmob-calkantili-donemlerde-surdurulebilir-satis-yetkinlikleri/
END:VEVENT
END:VCALENDAR